BEGIN:VCALENDAR
VERSION:2.0
PRODID:-//Tides - ECPv5.6.0//NONSGML v1.0//EN
CALSCALE:GREGORIAN
METHOD:PUBLISH
X-WR-CALNAME:Tides
X-ORIGINAL-URL:https://www.tides.org
X-WR-CALDESC:Events for Tides
BEGIN:VTIMEZONE
TZID:America/Los_Angeles
BEGIN:DAYLIGHT
TZOFFSETFROM:-0800
TZOFFSETTO:-0700
TZNAME:PDT
DTSTART:20190310T100000
END:DAYLIGHT
BEGIN:STANDARD
TZOFFSETFROM:-0700
TZOFFSETTO:-0800
TZNAME:PST
DTSTART:20191103T090000
END:STANDARD
END:VTIMEZONE
BEGIN:VEVENT
DTSTART;TZID=America/Los_Angeles:20190422T170000
DTEND;TZID=America/Los_Angeles:20190422T190000
DTSTAMP:20210515T233938
CREATED:20190426T181304Z
LAST-MODIFIED:20190426T181304Z
UID:12784-1555952400-1555959600@www.tides.org
SUMMARY:Tides April Community Happy Hour
DESCRIPTION:Tides April Community Happy Hour \nWith Co-Hosts: AAPIP San Francisco and Silicon Valley Chapters\, Emerging Practitioners in Philanthropy Bay Area\, and Lacuna Giving Circle. \nWe’re excited for you to join us as at: “EMBOLDEN” — our spring networking happy hour and reception — for a discussion highlighting the unique experiences of philanthropic donors and foundation executive leaders of color in the context of immigration\, criminal justice reform\, and racial justice issues. \nLearn how people of color are forging leadership pathways in Bay Area philanthropy\, and hear about their lessons\, challenges\, and successes in navigating individual\, collective and institutional financial wealth in the context of social justice.
URL:https://www.tides.org/event/tides-april-community-happy-hour/
LOCATION:Google Community Space\, 188 The Embarcadero\, San Francisco\, CA\, 94015\, United States
CATEGORIES:Community
END:VEVENT
END:VCALENDAR