BEGIN:VCALENDAR
VERSION:2.0
PRODID:-//Tides - ECPv5.6.0//NONSGML v1.0//EN
CALSCALE:GREGORIAN
METHOD:PUBLISH
X-WR-CALNAME:Tides
X-ORIGINAL-URL:https://www.tides.org
X-WR-CALDESC:Events for Tides
BEGIN:VTIMEZONE
TZID:America/Los_Angeles
BEGIN:DAYLIGHT
TZOFFSETFROM:-0800
TZOFFSETTO:-0700
TZNAME:PDT
DTSTART:20190310T100000
END:DAYLIGHT
BEGIN:STANDARD
TZOFFSETFROM:-0700
TZOFFSETTO:-0800
TZNAME:PST
DTSTART:20191103T090000
END:STANDARD
END:VTIMEZONE
BEGIN:VEVENT
DTSTART;TZID=America/Los_Angeles:20190314T173000
DTEND;TZID=America/Los_Angeles:20190314T193000
DTSTAMP:20210515T233713
CREATED:20190312T222454Z
LAST-MODIFIED:20190422T190217Z
UID:12664-1552584600-1552591800@www.tides.org
SUMMARY:Tides New York Community Happy Hour
DESCRIPTION:At Tides\, we believe social change takes innovative contributions across communities\, issues\, and sectors. We’re thrilled to host our happy hour at Civic Hall in New York City in partnership with Women Have Wings & Women’s March Global. \nThis March the Commission on the Status of Women will hold its sixty-third session in New York. To celebrate key initiatives around this event\, we hope you will join us for drinks and to hear inspiring stories of changemakers\, and others like you\, who are leading bold solutions to advance gender justice. \nRSVP here. \nAgenda: \n// 5:15pm – Arrival & networking \n// 6:00pm – A Tides Welcome \n// 6:10pm – Lightning talks with Women’s March Global\, Women Have Wings & Girl Rising \n// 6:45pm – Networking Reception \n// 7:30pm – Closing \nWe’re serving drinks and light appetizers\, but space is limited and an RSVP is required. 
URL:https://www.tides.org/event/tides-new-york-community-happy-hour/
LOCATION:Civic Hall\, 118 West 22nd Street\, New York\, New York\, 10011
ATTACH;FMTTYPE=image/jpeg:https://www.tides.org/wp-content/uploads/2019/03/Copy-of-20170121_WomensMarchDC_0615_KishaBari_WEB.jpg
END:VEVENT
END:VCALENDAR